BEGIN:VCALENDAR
VERSION:2.0
PRODID:Events Booking
BEGIN:VEVENT
UID:69ea1829dfe15
SUMMARY:Communications CoP: Diversity\, Inclusion\, and Compliance
DESCRIPTION:This is a NCPMI Communication &amp\; Public Speaking CoP- NCPL 
 Toastmasters Club Meeting. The Meeting includes prepared speeches\, table 
 topics\, networking\, evaluations\, jokes and multiple meeting operations 
 roles. 5:30 pm -8:00 pm (5.30-6.00 Registration\, Snack &amp\; Pre-meeting
  Networking)
 Cisco Campus - Building 3\, First Floor\, The Vault Confere
 nce Room
 Abstract
 
 Many companies today have drastically improved wo
 rkforce diversity compared to 10 or 20 years ago\, however most are not as
  inclusive as they should be.
 Jim will walk us through the difference be
 tween Diversity\, Inclusion\, and Compliance and show us how these three c
 oncepts mix and mingle in the modern US workplace.
 We’ll define terms\
 , walk through scenarios and examine common errors and misconceptions. Tog
 ether we’ll explore some of the best practices and learn how weaving div
 ersity and inclusion into employee onboarding can help us all move forward
 .
 Learning Objectives:
 
 Understand how properly implemented D&amp\;I
  initiatives impact business results
 Understand what many companies do w
 rong
 Explore current best practice
 
 About the Speaker
 
 Jim Brown
 \, Jr.\, DTM\, a 1997 graduate of North Carolina A&amp\;T State University
  with a Bachelor of Science in Mechanical Engineering. He currently works 
 as a Product Safety engineer for John Deere commercial mowing. For most of
  the last 15 years Jim has been directly engaged in workplace inclusivenes
 s\, including recruiting and mentoring of minority engineers. Jim recently
  completed his MBA at East Carolina University and is looking forward to p
 ursing Doctoral studies in business. In his free time Jim enjoys photograp
 hy\, motorsports\, STEM outreach\, non-profit governance\, the occasional 
 round of golf and a properly prepared steak.
 
LOCATION:7025 Kit Creek Rd\, Morrisville\, NC 27560\, USA
DTSTART:20200225T223000Z
DTEND:20200226T010000Z
DTSTAMP:20260423T130129Z
ORGANIZER;CN=PMI North Carolina Chapter:MAILTO:bounce@ncpmi.org
GEO:35.854621;-78.872049
X-APPLE-STRUCTURED-LOCATION;VALUE=URI;X-ADDRESS=7025 Kit Creek Rd\, Morrisv
 ille\, NC 27560\, USA;X-APPLE-RADIUS=72;X-TITLE=Cisco Campus | Building 3\
 , First Floor\, The Vault Conference Room:35.854621;-78.872049
END:VEVENT
END:VCALENDAR