BEGIN:VCALENDAR
VERSION:2.0
PRODID:Events Booking
BEGIN:VEVENT
UID:69ea03a407e81
SUMMARY:Communications CoP: Secrets of a Successful Speaking PlayBook
DESCRIPTION:This is a NCPMI Communication &amp\; Public Speaking CoP- NCPL 
 Toastmasters Club Meeting. The Meeting includes prepared speeches\, table 
 topics\, networking\, evaluations\, jokes and multiple meeting operations 
 roles. 5:30 pm -8:00 pm (5.30-6.00 Registration\, Snack &amp\; Pre-meeting
  Networking)
 Cisco Campus - Building 3\, First Floor\, The Vault Confere
 nce Room
 Abstract
 
 Like football\, speaking is a contact sport. Ever
 y good coach\, every good player shows up to the game with a playbook. Whe
 ther you are speaking to a single person\, a small team\, a large group\, 
 your chances for successful communication increases if you have a playbook
 .
 &nbsp\;
 This presentation reveals plays that must be in your playboo
 k and methods for practicing these plays. This ensures that you will be sh
 arp and ready when circumstances demand their use.
 &nbsp\;
 Learning Ob
 jectives:
 At the end of this presentation participants will understand:
 
 
 The one thing you must have in your playbook
 Ways for making your p
 resentation sparkle
 What does a court case and a date have in common
 T
 he best technique for moving your audience to action
 How to make the aud
 ience love you&nbsp\;
 
 About the Speaker
 
 Derrick Williams\, DTM\,
  first joined Toastmasters in 1992 for the wrong reason: bar-hopping after
  meetings. However\, his love for words\, his love for people kept him aro
 und for 8 years. During this time he experienced the thrill of speech cont
 ests\, gaarnered life-long friends and earned the Distinguished Toastmaste
 r designation.
 &nbsp\;
 An electrical engineer by trade\, he was pulled
  away in 2000 to focus on demanding career goals. But he could not stay aw
 ay forever and returned in 2014\, this time for the right reason: to suppo
 rt the team effort to help each other grow and develop.
 
LOCATION:7025 Kit Creek Rd\, Morrisville\, NC 27560\, USA
DTSTART:20200211T223000Z
DTEND:20200212T010000Z
DTSTAMP:20260423T113356Z
ORGANIZER;CN=PMI North Carolina Chapter:MAILTO:bounce@ncpmi.org
GEO:35.854621;-78.872049
X-APPLE-STRUCTURED-LOCATION;VALUE=URI;X-ADDRESS=7025 Kit Creek Rd\, Morrisv
 ille\, NC 27560\, USA;X-APPLE-RADIUS=72;X-TITLE=Cisco Campus | Building 3\
 , First Floor\, The Vault Conference Room:35.854621;-78.872049
END:VEVENT
END:VCALENDAR