BEGIN:VCALENDAR
VERSION:2.0
PRODID:Events Booking
BEGIN:VEVENT
UID:69ea6f8bbd682
SUMMARY:Communications CoP: Working in the post pandemic world
DESCRIPTION:This is a NCPMI Communication &amp\; Public Speaking CoP- NCPL 
 Toastmasters Club Meeting.The Meeting includes prepared speeches\, table t
 opics\, networking\, evaluations\, jokes and multiple meeting operations r
 oles.6:00 pm – 8:00 pm (5:45 pm – 6:00 pm) Pre-meeting Networking
 Me
 eting will be convened by Zoom Virtual Meeting
 
 Abstract:
 2020 has b
 een a frustrating year all around.&nbsp\; We were not prepared with our pe
 ople\, processes and technology to shift from a primarily office environme
 nt to a virtually one.&nbsp\; What have we learned and what does work look
  like post pandemic?&nbsp\; What do organizations and project professional
 s need to do?
 
DTSTART:20201027T214500Z
DTEND:20201028T000000Z
DTSTAMP:20260423T191419Z
ORGANIZER;CN=PMI North Carolina Chapter:MAILTO:bounce@ncpmi.org
END:VEVENT
END:VCALENDAR