BEGIN:VCALENDAR
VERSION:2.0
PRODID:Events Booking
BEGIN:VEVENT
UID:69ea8643e57fc
SUMMARY:Communications CoP: Tips for your next All Important Zoom Meeting
DESCRIPTION:This is a NCPMI Communication &amp\; Public Speaking CoP- NCPL 
 Toastmasters Club Meeting.The Meeting includes prepared speeches\, table t
 opics\, networking\, evaluations\, jokes and multiple meeting operations r
 oles.6:00 pm – 8:00 pm (5:45 pm – 6:00 pm) Pre-meeting Networking
 Me
 eting will be convened by Zoom Virtual Meeting
 
 Abstract:
 Remember t
 he days when the most important thing about that once-in-lifetime job inte
 rview\, presentation\, or dissertation was getting there early? Now in our
  post-COVID world\, add to the list of things to worry about is staying co
 nnected while using a video conferencing technology like Zoom\, Skype\, We
 bEx or Teams.
 Let’s face it\, likely you will be at home in your home 
 office using your home computer and home Wi-Fi doing an event in front of 
 hundreds\, maybe thousands\, of others watching and listening to you in th
 at once-in-lifetime virtual meeting. What can you do to minimize the chanc
 e of a technology failure ruining that once-in-a-lifetime video conferenci
 ng moment where there are no do-overs?
 
DTSTART:20201124T230000Z
DTEND:20201125T010000Z
DTSTAMP:20260423T205115Z
ORGANIZER;CN=PMI North Carolina Chapter:MAILTO:bounce@ncpmi.org
END:VEVENT
END:VCALENDAR