BEGIN:VCALENDAR
VERSION:2.0
PRODID:Events Booking
BEGIN:VEVENT
UID:69ea9b5fe6c8e
SUMMARY:Communications CoP: Facing a Global Divide – Cultural Differences
  between Continents
DESCRIPTION:Abstract:
 Today\, the world has become a global village.&nbsp
 \; With businesses transcending geographical boundaries\, project managers
  must deal with a culturally diverse work force\, to deliver business resu
 lts.&nbsp\;Travel between countries to deal with cultural challenges\, is 
 made even more difficult\, due to a raging pandemic. As a result\, underst
 anding these cultural differences and adapting to them is even more import
 ant than ever before.&nbsp\;
LOCATION:Conference Bridge
DTSTART:20210223T230000Z
DTEND:20210224T010000Z
DTSTAMP:20260423T222119Z
ORGANIZER;CN=PMI North Carolina Chapter:MAILTO:bounce@ncpmi.org
END:VEVENT
END:VCALENDAR