BEGIN:VCALENDAR
VERSION:2.0
PRODID:Events Booking
BEGIN:VEVENT
UID:69ea6eeeacb57
SUMMARY:Communications CoP: Evaluating a Toastmasters Speech
DESCRIPTION:This is a NCPMI Communication &amp\; Public Speaking CoP- NCPL 
 Toastmasters Club Meeting.The Meeting includes prepared speeches\, table t
 opics\, networking\, evaluations\, jokes and multiple meeting operations r
 oles.6:00 pm – 8:00 pm (5:45 pm – 6:00 pm) Pre-meeting Networking
 Me
 eting will be convened by Zoom Virtual Meeting
 
 Abstract:
 We will ta
 ke a deep dive into the process of evaluating a Toastmasters speech.&nbsp\
 ; Evaluation is the skill we learn to help ourselves and others improve. T
 he objective of a speech evaluation is to assist the speaker to improve\, 
 persuade them to make changes\, and motivate them to give the next speech.
 &nbsp\; While the focus of this talk is a speech evaluation\, the skills u
 sed are transferable to evaluating employees\, projects\, and meetings whe
 re you give feedback to others. We will review the parts of the evaluation
  speech (yes it is a speech too!) - a big energy open\, capturing the spea
 ker's skills succinctly\, explaining improvements\, and a concise&nbsp\;co
 nclusion. There is more- we will look at time management in the speech\, h
 ow to apportion time to the different segments.&nbsp\; I invite you to joi
 n me in upping your game and expanding a skill you are already using
 
DTSTART:20201013T214500Z
DTEND:20201014T000000Z
DTSTAMP:20260423T191142Z
ORGANIZER;CN=PMI North Carolina Chapter:MAILTO:bounce@ncpmi.org
END:VEVENT
END:VCALENDAR