BEGIN:VCALENDAR
VERSION:2.0
PRODID:Events Booking
BEGIN:VEVENT
UID:69ea9be7285f0
SUMMARY:Communications and Public Speaking CoP: Becoming a Shift Thinker
DESCRIPTION:Communications and Public Speaking CoP is a part of NC Project 
 Leaders Toastmasters.&nbsp\; It is the perfect&nbsp\;club where project ma
 nagement\, leadership and public speaking skills are featured in a fun\, s
 afe\, supportive environment.
DTSTART:20210309T224500Z
DTEND:20210310T010000Z
DTSTAMP:20260423T222335Z
ORGANIZER;CN=PMI North Carolina Chapter:MAILTO:bounce@ncpmi.org
END:VEVENT
END:VCALENDAR