BEGIN:VCALENDAR
VERSION:2.0
PRODID:Events Booking
BEGIN:VEVENT
UID:69ea566e4486c
SUMMARY:Communications CoP: Project Management and the People Side of Chang
 e Summary
DESCRIPTION:This is a NCPMI Communication &amp\; Public Speaking CoP- NCPL 
 Toastmasters Club Meeting.The Meeting includes prepared speeches\, table t
 opics\, networking\, evaluations\, jokes and multiple meeting operations r
 oles.5:45 pm – 8:00 pm (5:45 pm – 6:00 pm) Pre-meeting Networking
 Me
 eting will be convened by Zoom Virtual Meeting
 
 Abstract:
 Looking fo
 r a way to increase your project success and deliver lasting benefits to y
 our organization? The secret is people. Being able to successfully lead pe
 ople through change will result in better project adoption and therefore g
 reater value. In this session\, you will learn fundamental principles of t
 he people side of change\, tools to implement change\, and the ADKAR model
  for helping individuals change.
 
LOCATION:Conference Bridge
DTSTART:20200922T214500Z
DTEND:20200923T000000Z
DTSTAMP:20260423T172710Z
ORGANIZER;CN=PMI North Carolina Chapter:MAILTO:bounce@ncpmi.org
END:VEVENT
END:VCALENDAR