BEGIN:VCALENDAR
VERSION:2.0
PRODID:Events Booking
BEGIN:VEVENT
UID:69ea566ec7852
SUMMARY:Communications CoP: Emotional Readiness and the Transformational Le
 ader
DESCRIPTION:This is a NCPMI Communication &amp\; Public Speaking CoP- NCPL 
 Toastmasters Club Meeting.The Meeting includes prepared speeches\, table t
 opics\, networking\, evaluations\, jokes and multiple meeting operations r
 oles.5:45 pm – 8:00 pm (5:45 pm – 6:00 pm) Pre-meeting Networking
 Me
 eting will be convened by Zoom Virtual Meeting
 
 Abstract:
 In today's
  socially intense climate\, it is vitally important for organization and m
 arketplace leaders to develop Emotional Intelligence and apply it effectiv
 ely. Science journalist Daniel Goldman says\, \"Emotional Intelligence is 
 the sine qua non of leadership.\" Throughout my experience in the hospital
 ity and education field and now the millennial life coach\, I completely c
 oncur with Goldman's research. We need leaders who can galvanize complex p
 ersonality groups beyond the realm of analytics. Your level of emotional r
 eadiness will determine how well you are able to help transform others.
 
LOCATION:Conference Bridge
DTSTART:20200908T215000Z
DTEND:20200909T000000Z
DTSTAMP:20260423T172710Z
ORGANIZER;CN=PMI North Carolina Chapter:MAILTO:bounce@ncpmi.org
END:VEVENT
END:VCALENDAR