BEGIN:VCALENDAR
VERSION:2.0
PRODID:Events Booking
BEGIN:VEVENT
UID:69ec9d51a5f27
SUMMARY:Communications CoP: Influencing Others
DESCRIPTION:This is a NCPMI Communication &amp\; Public Speaking CoP- NCPL 
 Toastmasters Club Meeting.The Meeting includes prepared speeches\, table t
 opics\, networking\, evaluations\, jokes and multiple meeting operations r
 oles.5:30 pm – 8:00 pm (5:30 pm – 6:10 pm) Pre-meeting Networking
 Me
 eting will be convened by Virtual Conference Call
 Abstract
 
 Have you
  ever been influenced by anyone in your professional or personal life? Do 
 you want to be a leader who encourages\, persuades and inspires others? If
  the answer is Yes\, then this session is for you.
 Objective:
 Particip
 ants will learn what\, how and why of influencing others.
 
LOCATION:Conference Bridge
DTSTART:20200811T215000Z
DTEND:20200812T000000Z
DTSTAMP:20260425T105409Z
ORGANIZER;CN=PMI North Carolina Chapter:MAILTO:bounce@ncpmi.org
END:VEVENT
END:VCALENDAR