BEGIN:VCALENDAR
VERSION:2.0
PRODID:Events Booking
BEGIN:VEVENT
UID:69ea4214bf679
SUMMARY:NCPMI Board of Officers Meetings
DESCRIPTION:NCPMI Board Officers meets monthly on the second Monday of each
  month. The meetings are open to&nbsp\;the membership. Any&nbsp\;NCPMI mem
 bers who would like to attend should send an email to BoDAdmin@ncpmi.org&n
 bsp\;at least a week prior\, so any logistical arrangements can be made.
LOCATION:4700 Emperor Blvd\, Research Triangle Park
DTSTART:20200713T223000Z
DTEND:20200714T000000Z
DTSTAMP:20260423T160020Z
ORGANIZER;CN=PMI North Carolina Chapter:MAILTO:bounce@ncpmi.org
GEO:35.877952;-78.84081
X-APPLE-STRUCTURED-LOCATION;VALUE=URI;X-ADDRESS=4700 Emperor Blvd\, Researc
 h Triangle Park;X-APPLE-RADIUS=72;X-TITLE=Sheraton Imperial RTP:35.877952;
 -78.84081
END:VEVENT
END:VCALENDAR