BEGIN:VCALENDAR
VERSION:2.0
PRODID:Events Booking
BEGIN:VEVENT
UID:69ec9da4aa8a6
SUMMARY:Agile CoP: Agile for Portfolio/Program management
DESCRIPTION:Learn how to apply Agile for Portfolio / Program management.
 
 5:30pm – 6pm: Networking/ Snacks/ Refreshments
 6pm – 7pm: Topic
  
 
 You must register for this event and bring ID to be allowed in MetLife 
 Building.
  
LOCATION:101 Metlife Way\, Cary\, NC 27513\, USA
DTSTART:20191120T223000Z
DTEND:20191121T000000Z
DTSTAMP:20260425T105532Z
ORGANIZER;CN=PMI North Carolina Chapter:MAILTO:bounce@ncpmi.org
GEO:35.830135;-78.800177
X-APPLE-STRUCTURED-LOCATION;VALUE=URI;X-ADDRESS=101 Metlife Way\, Cary\, NC
  27513\, USA;X-APPLE-RADIUS=72;X-TITLE=MetLife | 101 MetLife Way | Cary\, 
 North Carolina 27513 - Lovelace Room Building 1:35.830135;-78.800177
END:VEVENT
END:VCALENDAR