BEGIN:VCALENDAR
VERSION:2.0
PRODID:Events Booking
BEGIN:VEVENT
UID:69ea4246c41e5
SUMMARY:Agile CoP: Sprint Planning
DESCRIPTION:If your Agile teams are struggling to meet Sprint Goals\, one p
 lace to start looking for improvement is the Sprint Planning Meeting. Many
  teams do not conduct effective Sprint Planning Meetings\, leading to issu
 es including failure to meet the Sprint Goal\, uneven velocity\, and Sprin
 t Backlogs of inappropriate size for the team.
 Many teams are surprised 
 to learn what goes into an effective Sprint Planning Meeting. By the end\,
  they should have not only the Sprint Goal and Sprint Backlog\, but an eff
 ective Definition of Done. In addition\, tools to help teams plan their ca
 pacity during a Sprint can yield great insight into how the teams are real
 ly operating and help them make adjustments to meet Sprint Goals.
LOCATION:Conference Bridge
DTSTART:20200722T220000Z
DTEND:20200722T230000Z
DTSTAMP:20260423T160110Z
ORGANIZER;CN=PMI North Carolina Chapter:MAILTO:bounce@ncpmi.org
END:VEVENT
END:VCALENDAR