BEGIN:VCALENDAR
VERSION:2.0
PRODID:Events Booking
BEGIN:VEVENT
UID:69ea59307a62a
SUMMARY:Agile COP:  Impact of DevOps on the Project Manager
DESCRIPTION:We will discuss how project managers are impacted by the implem
 entation of the DevOps methodology. Specifically\, we will discuss the his
 tory and rise of continuous integration and continuous delivery in SDLC an
 d how it impacts the teams that project managers work with.
LOCATION:Conference Bridge
DTSTART:20200923T220000Z
DTEND:20200923T230000Z
DTSTAMP:20260423T173856Z
ORGANIZER;CN=PMI North Carolina Chapter:MAILTO:bounce@ncpmi.org
END:VEVENT
END:VCALENDAR