BEGIN:VCALENDAR
VERSION:2.0
PRODID:Events Booking
BEGIN:VEVENT
UID:69ea0400c8034
SUMMARY:Agile COP: Disciplined Agile and PMI
DESCRIPTION:Vicki Kumar will share information about the partnership betwee
 n PMI and Disciplined Agile.
 You will gain knowledge of the Disciplined 
 Agile Process and how you and PMI could utilize it.
 &nbsp\;
 5:30pm –
  6pm: Networking/ Snacks/ Refreshments
 6pm – 7pm: Topic
 &nbsp\;
 Yo
 u must register for this event and bring ID to be allowed in MetLife Build
 ing.
 &nbsp\;
LOCATION:101 Metlife Way\, Cary\, NC 27513\, USA
DTSTART:20200122T223000Z
DTEND:20200123T000000Z
DTSTAMP:20260423T113528Z
ORGANIZER;CN=PMI North Carolina Chapter:MAILTO:bounce@ncpmi.org
GEO:35.830135;-78.800177
X-APPLE-STRUCTURED-LOCATION;VALUE=URI;X-ADDRESS=101 Metlife Way\, Cary\, NC
  27513\, USA;X-APPLE-RADIUS=72;X-TITLE=MetLife | 101 MetLife Way | Cary\, 
 North Carolina 27513 - Lovelace Room Building 1:35.830135;-78.800177
END:VEVENT
END:VCALENDAR