BEGIN:VCALENDAR
VERSION:2.0
PRODID:Events Booking
BEGIN:VEVENT
UID:69ea6f09a2b6b
SUMMARY:Agile COP: Agile Tools
DESCRIPTION:Attendees will learn about Agile tools that can be used for bot
 h a collocated team and distributed team. It will cover backlog management
 \, team tools\, roadmaps\, retro\, and interaction tools.
 &nbsp\;
LOCATION:Conference Bridge
DTSTART:20201118T230000Z
DTEND:20201119T000000Z
DTSTAMP:20260423T191209Z
ORGANIZER;CN=PMI North Carolina Chapter:MAILTO:bounce@ncpmi.org
END:VEVENT
END:VCALENDAR