BEGIN:VCALENDAR
VERSION:2.0
PRODID:Events Booking
BEGIN:VEVENT
UID:69ea42c4d31d2
SUMMARY:Communications CoP: 9 Boxes of Life: Discovering Your Life and Work
DESCRIPTION:This is a NCPMI Communication &amp\; Public Speaking CoP- NCPL 
 Toastmasters Club Meeting. The Meeting includes networking\, inspirational
  thoughts\, prepared speeches\, table topics\, evaluations\, with multiple
  meeting operations roles. 5:30 pm – 8:00 pm (5:30 pm – 6:10 pm) Pre-m
 eeting Networking
 Meeting will be convened by Virtual Conference Call
 
 Abstract:
 Wondering where our work life and personal life start and end?
  Is there such a thing as work life balance? With access to technology in 
 this 24/7 world\, and the lines blurring between work life and personal li
 fe\, how do we create a life that is optimal to bring out our best?&nbsp\;
  This will be an uplifting conversation in identifying what brings us joy\
 , brings out our best\, and how having 9 full boxes in our lives make a po
 sitive impact on both our work life and personal life.
DTSTART:20200728T213000Z
DTEND:20200729T000000Z
DTSTAMP:20260423T160316Z
ORGANIZER;CN=PMI North Carolina Chapter:MAILTO:bounce@ncpmi.org
END:VEVENT
END:VCALENDAR