BEGIN:VCALENDAR
VERSION:2.0
PRODID:Events Booking
BEGIN:VEVENT
UID:69ea2e9743613
SUMMARY:NCPMI PMP Exam Prep Class at No Cost to Members
DESCRIPTION:NCPMI is offering an Online Live PMP Exam Prep Class at no cost
  to those who were members on or before May 15\, 2020. This class is not a
 n enticement to get people to join NCPMI\, it is a give back to existing m
 embers. Therefore\, you must be a member of NCPMI on or before May 15\, 20
 20 to take advantage of this offer.
DTSTART:20200617T170000Z
DTEND:20200728T200000Z
DTSTAMP:20260423T143711Z
ORGANIZER;CN=PMI North Carolina Chapter:MAILTO:bounce@ncpmi.org
END:VEVENT
END:VCALENDAR