BEGIN:VCALENDAR
VERSION:2.0
PRODID:Events Booking
BEGIN:VEVENT
UID:69ea575ecab18
SUMMARY:Increase Your Versatility\, the PMI-ACP Certification Prep Class\, 
 the Agile Class that Teaches Agile
DESCRIPTION:&nbsp\;
 The PMI-ACP course focuses on embracing and applying 
 the Agile Manifesto — not a method\, framework\, or toolkit. You will\, 
 though\, learn about Scrum\, Kanban\, eXtreme Programming\, lean thinking\
 , and other approaches.
 The PMI-ACP global certification supports indivi
 duals in meeting the needs of organizations that rely on project practitio
 ners to apply a diversity of methods to their project management — from 
 predictive to hybrid to agile.
 NOTE: This class will cover the 21 credit
  hours which is one of the key requirements for taking the PMI-ACP certifi
 cation. In addition\, students who have their PMP will gain 21 PDUs toward
 s their PMP renewal.
 Class Dates: October 3\, 10\, and 17\, 2020
 Price
 :
 Member of NCPMI: $435
 Non-Member: $495
DTSTART:20201003T123000Z
DTEND:20201017T203000Z
DTSTAMP:20260423T173110Z
ORGANIZER;CN=PMI North Carolina Chapter:MAILTO:bounce@ncpmi.org
END:VEVENT
END:VCALENDAR