BEGIN:VCALENDAR
VERSION:2.0
PRODID:Events Booking
BEGIN:VEVENT
UID:69e9fff495d8c
SUMMARY:Certification: Spring 2020 PMP Prep Class
DESCRIPTION:Non-Members $800\, Members $700&nbsp\;
 Remember to log-in to 
 receive your discount at checkout
 This course is taught in modules. Two 
 to three modules are taught each Saturday for five&nbsp\;Saturdays. This c
 ourse will provide the 35 education credits needed for your PMP applicatio
 n.&nbsp\;The ten modules in the class cover the 10 Knowledge areas and 5 P
 rocess groups that form the&nbsp\;basis of the Project Management Body of 
 Knowledge (PMBOK)\, Sixth&nbsp\;edition
 CLASS DATES: February 1\, 2020 t
 hrough February 29\, 2020
DTSTART:20200201T133000Z
DTEND:20200229T213000Z
DTSTAMP:20260423T111812Z
ORGANIZER;CN=PMI North Carolina Chapter:MAILTO:bounce@ncpmi.org
END:VEVENT
END:VCALENDAR